BEGIN:VCALENDAR
VERSION:2.0
PRODID:-//ical.marudot.com//iCal Event Maker
X-WR-CALNAME:GODZONE CHAPTER 12 SCHEDULE
NAME:GODZONE CHAPTER 12 SCHEDULE
CALSCALE:GREGORIAN
BEGIN:VTIMEZONE
TZID:Pacific/Auckland
LAST-MODIFIED:20201011T015911Z
TZURL:http://tzurl.org/zoneinfo-outlook/Pacific/Auckland
X-LIC-LOCATION:Pacific/Auckland
BEGIN:DAYLIGHT
TZNAME:NZDT
TZOFFSETFROM:+1200
TZOFFSETTO:+1300
DTSTART:19700927T020000
RRULE:FREQ=YEARLY;BYMONTH=9;BYDAY=-1SU
END:DAYLIGHT
BEGIN:STANDARD
TZNAME:NZST
TZOFFSETFROM:+1300
TZOFFSETTO:+1200
DTSTART:19700405T030000
RRULE:FREQ=YEARLY;BYMONTH=4;BYDAY=1SU
END:STANDARD
END:VTIMEZONE
BEGIN:VEVENT
DTSTAMP:20250318T231428Z
UID:20180427T190111Z-178606467@marudot.com
DTSTART;TZID=Pacific/Auckland:20250318T090000
DTEND;TZID=Pacific/Auckland:20250318T120000
SUMMARY:GODZONE HOST VENUE\, WEBSITE & EVENT LAUNCH
END:VEVENT
BEGIN:VEVENT
DTSTAMP:20250401T231428Z
UID:20180427T190111Z-639733516@marudot.com
DTSTART;TZID=Pacific/Auckland:20250401T090000
DTEND;TZID=Pacific/Auckland:20250401T120000
SUMMARY:GODZONE PURE & GZ PURSUIT ENTRIES OPEN (9AM NZ TIME)
END:VEVENT
BEGIN:VEVENT
DTSTAMP:20250531T231428Z
UID:20180427T190111Z-1737356259@marudot.com
DTSTART;TZID=Pacific/Auckland:20250531T170000
DTEND;TZID=Pacific/Auckland:20250531T170000
SUMMARY:GODZONE	EARLY ENTRY DISCOUNT DEADLINE
END:VEVENT
BEGIN:VEVENT
DTSTAMP:20250531T231428Z
UID:20180427T190111Z-432953054@marudot.com
DTSTART;TZID=Pacific/Auckland:20250531T170000
DTEND;TZID=Pacific/Auckland:20250531T170000
SUMMARY:GODZONE PAYMENT PLAN SECOND INSTALLMENT DUE
END:VEVENT
BEGIN:VEVENT
DTSTAMP:20250620T231428Z
UID:20180427T190111Z-2029823198@marudot.com
DTSTART;TZID=Pacific/Auckland:20250620T090000
DTEND;TZID=Pacific/Auckland:20250620T120000
SUMMARY:GODZONE NEWSLETTER 1 RELEASED
END:VEVENT
BEGIN:VEVENT
DTSTAMP:20250731T231428Z
UID:20180427T190111Z-2029823198@marudot.com
DTSTART;TZID=Pacific/Auckland:20250731T090000
DTEND;TZID=Pacific/Auckland:20250731T120000
SUMMARY:GODZONE STANDARD ENTRY PRICE CONCLUDES
END:VEVENT
BEGIN:VEVENT
DTSTAMP:20250731T231428Z
UID:20180427T190111Z-2029823198@marudot.com
DTSTART;TZID=Pacific/Auckland:20250731T090000
DTEND;TZID=Pacific/Auckland:20250731T120000
SUMMARY:GODZONE PAYMENT PLAN THIRD INSTALLMENT DUE
END:VEVENT
BEGIN:VEVENT
DTSTAMP:20250820T231428Z
UID:20180427T190111Z-141914217@marudot.com
DTSTART;TZID=Pacific/Auckland:20250820T090000
DTEND;TZID=Pacific/Auckland:20250820T120000
SUMMARY:GODZONE NEWSLETTER 2 RELEASED
END:VEVENT
BEGIN:VEVENT
DTSTAMP:20250930T231428Z
UID:20180427T190111Z-432953054@marudot.com
DTSTART;TZID=Pacific/Auckland:20250930T170000
DTEND;TZID=Pacific/Auckland:20250930T170000
SUMMARY:GODZONE FORTH AND FINAL ENTRY PAYMENT DEADLINE – ENTRIES CLOSE
END:VEVENT
BEGIN:VEVENT
DTSTAMP:20251020T231428Z
UID:20180427T190111Z-1782244661@marudot.com
DTSTART;TZID=Pacific/Auckland:20251020T090000
DTEND;TZID=Pacific/Auckland:20251020T170000
SUMMARY:GODZONE NEWSLETTER 3 RELEASED
END:VEVENT
BEGIN:VEVENT
DTSTAMP:20251127T231428Z
UID:20180427T190111Z-555204489@marudot.com
DTSTART;TZID=Pacific/Auckland:20251127T090000
DTEND;TZID=Pacific/Auckland:20251127T120000
SUMMARY:GODZONE REGISTRATION\, EVENT BRIEFING & GEAR CHECK
END:VEVENT
BEGIN:VEVENT
DTSTAMP:20251127T231428Z
UID:20180427T190111Z-705873080@marudot.com
DTSTART;TZID=Pacific/Auckland:20251127T090000
DTEND;TZID=Pacific/Auckland:20251127T120000
SUMMARY:GZ PURE/PURSUIT STARTS
END:VEVENT
BEGIN:VEVENT
DTSTAMP:20251205T231428Z
UID:20180427T190111Z-818461654@marudot.com
DTSTART;TZID=Pacific/Auckland:20251205T120000
DTEND;TZID=Pacific/Auckland:20251205T120000
SUMMARY:GZ PURE & GZ PURSUIT COURSES CLOSE
END:VEVENT
END:VCALENDAR